{
 "currentVersion": 10.31,
 "serviceDescription": "",
 "name": "bagmati_Images/bagmati_18_3_17",
 "description": "bagmati_Images/bagmati_18_3_17",
 "extent": {
  "xmin": 175792.5,
  "ymin": 2757892.5,
  "xmax": 445207.5,
  "ymax": 3152707.5,
  "spatialReference": {
   "wkid": 32645,
   "latestWkid": 32645
  }
 },
 "initialExtent": {
  "xmin": 175792.5,
  "ymin": 2757892.5,
  "xmax": 445207.5,
  "ymax": 3152707.5,
  "spatialReference": {
   "wkid": 32645,
   "latestWkid": 32645
  }
 },
 "fullExtent": {
  "xmin": 175792.5,
  "ymin": 2757892.5,
  "xmax": 445207.5,
  "ymax": 3152707.5,
  "spatialReference": {
   "wkid": 32645,
   "latestWkid": 32645
  }
 },
 "pixelSizeX": 15,
 "pixelSizeY": 15,
 "bandCount": 3,
 "pixelType": "U8",
 "minPixelSize": 0,
 "maxPixelSize": 0,
 "copyrightText": "",
 "serviceDataType": "esriImageServiceDataTypeRGB",
 "minValues": [],
 "maxValues": [],
 "meanValues": [],
 "stdvValues": [],
 "objectIdField": "",
 "fields": [],
 "capabilities": "Image,Metadata,Mensuration",
 "defaultMosaicMethod": "Center",
 "allowedMosaicMethods": "",
 "sortField": "",
 "sortValue": null,
 "mosaicOperator": "First",
 "defaultCompressionQuality": 75,
 "defaultResamplingMethod": "Bilinear",
 "maxImageHeight": 4100,
 "maxImageWidth": 15000,
 "allowRasterFunction": true,
 "rasterFunctionInfos": [],
 "rasterTypeInfos": [
  {
   "name": "Raster Dataset",
   "description": "Supports all ArcGIS Raster Datasets",
   "help": ""
  }
 ],
 "mensurationCapabilities": "Basic",
 "hasHistograms": false,
 "hasColormap": false,
 "hasRasterAttributeTable": false,
 "minScale": 0,
 "maxScale": 0,
 "exportTilesAllowed": false,
 "hasMultidimensions": false,
 "supportsStatistics": false,
 "supportsAdvancedQueries": false,
 "editFieldsInfo": null,
 "ownershipBasedAccessControlForRasters": null,
 "allowComputeTiePoints": false,
 "useStandardizedQueries": true,
 "advancedQueryCapabilities": {
  "useStandardizedQueries": true,
  "supportsStatistics": false,
  "supportsOrderBy": false,
  "supportsDistinct": false,
  "supportsPagination": false
 },
 "spatialReference": {
  "wkid": 32645,
  "latestWkid": 32645
 }
}
